BEGIN:VCALENDAR
VERSION:2.0
PRODID:-//TTG 05 Birkenau e.V. - ECPv6.13.2.1//NONSGML v1.0//EN
CALSCALE:GREGORIAN
METHOD:PUBLISH
X-WR-CALNAME:TTG 05 Birkenau e.V.
X-ORIGINAL-URL:https://ttg-birkenau.de
X-WR-CALDESC:Veranstaltungen für TTG 05 Birkenau e.V.
REFRESH-INTERVAL;VALUE=DURATION:PT1H
X-Robots-Tag:noindex
X-PUBLISHED-TTL:PT1H
BEGIN:VTIMEZONE
TZID:Europe/Berlin
BEGIN:DAYLIGHT
TZOFFSETFROM:+0100
TZOFFSETTO:+0200
TZNAME:CEST
DTSTART:20260329T010000
END:DAYLIGHT
BEGIN:STANDARD
TZOFFSETFROM:+0200
TZOFFSETTO:+0100
TZNAME:CET
DTSTART:20261025T010000
END:STANDARD
END:VTIMEZONE
BEGIN:VEVENT
DTSTART;TZID=Europe/Berlin:20260421T193000
DTEND;TZID=Europe/Berlin:20260421T213000
DTSTAMP:20260421T115910
CREATED:20250810T102752Z
LAST-MODIFIED:20250810T102752Z
UID:4449-1776799800-1776807000@ttg-birkenau.de
SUMMARY:Damen 2 - SV Waldhilsbach II
DESCRIPTION:
URL:https://ttg-birkenau.de/event/damen-2-sv-waldhilsbach-ii/
LOCATION:Turnhalle BIZ Hemsbach\, Silcherweg 8\, Hemsbach\, Baden-Württemberg\, 69502\, Deutschland
END:VEVENT
END:VCALENDAR